Package: biovizBase Version: 1.57.1 Command: /Library/Frameworks/R.framework/Resources/bin/R CMD INSTALL biovizBase StartedAt: 2025-10-10 15:42:11 -0400 (Fri, 10 Oct 2025) EndedAt: 2025-10-10 15:43:15 -0400 (Fri, 10 Oct 2025) EllapsedTime: 64.2 seconds RetCode: 0 Status: OK