Package: biotmle Version: 1.35.0 Command: /home/biocbuild/bbs-3.23-bioc/R/bin/R CMD INSTALL biotmle StartedAt: 2025-11-20 15:36:31 -0500 (Thu, 20 Nov 2025) EndedAt: 2025-11-20 15:36:57 -0500 (Thu, 20 Nov 2025) EllapsedTime: 26.9 seconds RetCode: 0 Status: OK