Package: biotmle Version: 1.33.0 Command: /Library/Frameworks/R.framework/Resources/bin/R CMD INSTALL biotmle StartedAt: 2025-10-17 15:33:58 -0400 (Fri, 17 Oct 2025) EndedAt: 2025-10-17 15:34:33 -0400 (Fri, 17 Oct 2025) EllapsedTime: 35.2 seconds RetCode: 0 Status: OK