Package: biotmle Version: 1.33.0 Command: /Library/Frameworks/R.framework/Resources/bin/R CMD build --keep-empty-dirs --no-resave-data biotmle StartedAt: 2025-10-17 16:15:24 -0400 (Fri, 17 Oct 2025) EndedAt: 2025-10-17 16:16:47 -0400 (Fri, 17 Oct 2025) EllapsedTime: 83.3 seconds RetCode: 0 Status: OK PackageFile: biotmle_1.33.0.tar.gz PackageFileSize: 316 KiB