Package: biotmle Version: 1.33.0 Command: rm -rf biotmle.buildbin-libdir && mkdir biotmle.buildbin-libdir && /Users/biocbuild/BBS/utils/build-universal.sh biotmle_1.33.0.tar.gz /Library/Frameworks/R.framework/Resources/bin/R biotmle.buildbin-libdir StartedAt: 2025-10-18 02:47:37 -0400 (Sat, 18 Oct 2025) EndedAt: 2025-10-18 02:48:18 -0400 (Sat, 18 Oct 2025) EllapsedTime: 40.4 seconds RetCode: 0 Status: OK PackageFile: biotmle_1.33.0.tgz PackageFileSize: 369.1 KiB