Package: biotmle Version: 1.33.0 Command: /Library/Frameworks/R.framework/Resources/bin/R CMD INSTALL biotmle StartedAt: 2025-10-05 15:19:42 -0400 (Sun, 05 Oct 2025) EndedAt: 2025-10-05 15:19:53 -0400 (Sun, 05 Oct 2025) EllapsedTime: 10.8 seconds RetCode: 0 Status: OK