Package: biotmle Version: 1.33.0 Command: rm -rf biotmle.buildbin-libdir && mkdir biotmle.buildbin-libdir && /Users/biocbuild/BBS/utils/build-universal.sh biotmle_1.33.0.tar.gz /Library/Frameworks/R.framework/Resources/bin/R biotmle.buildbin-libdir StartedAt: 2025-10-05 22:35:58 -0400 (Sun, 05 Oct 2025) EndedAt: 2025-10-05 22:36:09 -0400 (Sun, 05 Oct 2025) EllapsedTime: 11.2 seconds RetCode: 0 Status: OK PackageFile: biotmle_1.33.0.tgz PackageFileSize: 367.2 KiB