Package: biosigner Version: 1.37.4 Command: /Library/Frameworks/R.framework/Resources/bin/R CMD INSTALL biosigner StartedAt: 2025-10-15 15:33:51 -0400 (Wed, 15 Oct 2025) EndedAt: 2025-10-15 15:34:29 -0400 (Wed, 15 Oct 2025) EllapsedTime: 38.1 seconds RetCode: 0 Status: OK