Package: biosigner Version: 1.37.4 Command: /Library/Frameworks/R.framework/Resources/bin/R CMD build --keep-empty-dirs --no-resave-data biosigner StartedAt: 2025-10-15 16:15:08 -0400 (Wed, 15 Oct 2025) EndedAt: 2025-10-15 16:18:02 -0400 (Wed, 15 Oct 2025) EllapsedTime: 173.7 seconds RetCode: 0 Status: OK PackageFile: biosigner_1.37.4.tar.gz PackageFileSize: 5.082 MiB