Package: biosigner Version: 1.37.4 Command: rm -rf biosigner.buildbin-libdir && mkdir biosigner.buildbin-libdir && /Users/biocbuild/BBS/utils/build-universal.sh biosigner_1.37.4.tar.gz /Library/Frameworks/R.framework/Resources/bin/R biosigner.buildbin-libdir StartedAt: 2025-10-17 03:40:13 -0400 (Fri, 17 Oct 2025) EndedAt: 2025-10-17 03:40:55 -0400 (Fri, 17 Oct 2025) EllapsedTime: 41.9 seconds RetCode: 0 Status: OK PackageFile: biosigner_1.37.4.tgz PackageFileSize: 5.453 MiB