Package: biosigner Version: 1.37.4 Command: /Library/Frameworks/R.framework/Resources/bin/R CMD build --keep-empty-dirs --no-resave-data biosigner StartedAt: 2025-09-29 15:45:51 -0400 (Mon, 29 Sep 2025) EndedAt: 2025-09-29 15:46:57 -0400 (Mon, 29 Sep 2025) EllapsedTime: 65.7 seconds RetCode: 0 Status: OK PackageFile: biosigner_1.37.4.tar.gz PackageFileSize: 5.084 MiB