Package: biomvRCNS Version: 1.51.0 Command: /home/biocbuild/bbs-3.23-bioc/R/bin/R CMD INSTALL biomvRCNS StartedAt: 2025-11-21 15:49:46 -0500 (Fri, 21 Nov 2025) EndedAt: 2025-11-21 15:50:40 -0500 (Fri, 21 Nov 2025) EllapsedTime: 54.3 seconds RetCode: 0 Status: OK