Package: biomvRCNS Version: 1.51.0 Command: /home/biocbuild/bbs-3.23-bioc/R/bin/R CMD build --keep-empty-dirs --no-resave-data biomvRCNS StartedAt: 2025-11-21 16:30:22 -0500 (Fri, 21 Nov 2025) EndedAt: 2025-11-21 16:32:18 -0500 (Fri, 21 Nov 2025) EllapsedTime: 116.1 seconds RetCode: 0 Status: OK PackageFile: biomvRCNS_1.51.0.tar.gz PackageFileSize: 807.2 KiB