Package: biomvRCNS Version: 1.51.0 Command: /Library/Frameworks/R.framework/Resources/bin/R CMD INSTALL biomvRCNS StartedAt: 2025-11-16 15:27:44 -0500 (Sun, 16 Nov 2025) EndedAt: 2025-11-16 15:28:06 -0500 (Sun, 16 Nov 2025) EllapsedTime: 21.9 seconds RetCode: 0 Status: OK