Package: biomvRCNS Version: 1.51.0 Command: /Library/Frameworks/R.framework/Resources/bin/R CMD build --keep-empty-dirs --no-resave-data biomvRCNS StartedAt: 2025-11-17 16:06:06 -0500 (Mon, 17 Nov 2025) EndedAt: 2025-11-17 16:06:43 -0500 (Mon, 17 Nov 2025) EllapsedTime: 36.3 seconds RetCode: 1 Status: ERROR PackageFile: None PackageFileSize: NA