Package: biomformat Version: 1.39.0 Command: /home/biocbuild/bbs-3.23-bioc/R/bin/R CMD INSTALL biomformat StartedAt: 2025-11-06 15:06:48 -0500 (Thu, 06 Nov 2025) EndedAt: 2025-11-06 15:07:05 -0500 (Thu, 06 Nov 2025) EllapsedTime: 17.6 seconds RetCode: 0 Status: OK