Package: biomformat Version: 1.39.0 Command: /home/biocbuild/bbs-3.23-bioc/R/bin/R CMD build --keep-empty-dirs --no-resave-data biomformat StartedAt: 2025-11-06 16:27:57 -0500 (Thu, 06 Nov 2025) EndedAt: 2025-11-06 16:28:08 -0500 (Thu, 06 Nov 2025) EllapsedTime: 11.0 seconds RetCode: 0 Status: OK PackageFile: biomformat_1.39.0.tar.gz PackageFileSize: 338.1 KiB