Package: biomformat Version: 1.37.0 Command: /Library/Frameworks/R.framework/Resources/bin/R CMD INSTALL biomformat StartedAt: 2025-10-09 15:04:04 -0400 (Thu, 09 Oct 2025) EndedAt: 2025-10-09 15:04:22 -0400 (Thu, 09 Oct 2025) EllapsedTime: 18.7 seconds RetCode: 0 Status: OK