Package: biomformat Version: 1.37.0 Command: /Library/Frameworks/R.framework/Resources/bin/R CMD build --keep-empty-dirs --no-resave-data biomformat StartedAt: 2025-10-09 15:46:37 -0400 (Thu, 09 Oct 2025) EndedAt: 2025-10-09 15:46:42 -0400 (Thu, 09 Oct 2025) EllapsedTime: 5.1 seconds RetCode: 0 Status: OK PackageFile: biomformat_1.37.0.tar.gz PackageFileSize: 299.9 KiB