Package: biomformat Version: 1.37.0 Command: rm -rf biomformat.buildbin-libdir && mkdir biomformat.buildbin-libdir && /Users/biocbuild/BBS/utils/build-universal.sh biomformat_1.37.0.tar.gz /Library/Frameworks/R.framework/Resources/bin/R biomformat.buildbin-libdir StartedAt: 2025-10-09 22:33:31 -0400 (Thu, 09 Oct 2025) EndedAt: 2025-10-09 22:33:34 -0400 (Thu, 09 Oct 2025) EllapsedTime: 3.1 seconds RetCode: 0 Status: OK PackageFile: biomformat_1.37.0.tgz PackageFileSize: 498.6 KiB