Package: biomaRt Version: 2.65.16 Command: /home/biocbuild/bbs-3.22-bioc/R/bin/R CMD check --install=check:biomaRt.install-out.txt --library=/home/biocbuild/bbs-3.22-bioc/R/site-library --timings biomaRt_2.65.16.tar.gz StartedAt: 2025-10-19 21:33:03 -0400 (Sun, 19 Oct 2025) EndedAt: 2025-10-19 21:36:12 -0400 (Sun, 19 Oct 2025) EllapsedTime: 189.2 seconds RetCode: 0 Status: OK CheckDir: biomaRt.Rcheck Warnings: 0