Package: biomaRt Version: 2.67.0 Command: /home/biocbuild/bbs-3.23-bioc/R/bin/R CMD INSTALL biomaRt StartedAt: 2025-11-04 15:24:48 -0500 (Tue, 04 Nov 2025) EndedAt: 2025-11-04 15:25:04 -0500 (Tue, 04 Nov 2025) EllapsedTime: 15.8 seconds RetCode: 0 Status: OK