Package: biomaRt Version: 2.67.0 Command: /home/biocbuild/bbs-3.23-bioc/R/bin/R CMD build --keep-empty-dirs --no-resave-data biomaRt StartedAt: 2025-11-04 16:27:41 -0500 (Tue, 04 Nov 2025) EndedAt: 2025-11-04 16:29:57 -0500 (Tue, 04 Nov 2025) EllapsedTime: 136.1 seconds RetCode: 0 Status: OK PackageFile: biomaRt_2.67.0.tar.gz PackageFileSize: 884.9 KiB