############################################################################## ############################################################################## ### ### Running command: ### ### /home/biocbuild/bbs-3.23-bioc/R/bin/R CMD build --keep-empty-dirs --no-resave-data biomaRt ### ############################################################################## ############################################################################## * checking for file ‘biomaRt/DESCRIPTION’ ... OK * preparing ‘biomaRt’: * checking DESCRIPTION meta-information ... OK * installing the package (it is needed to build vignettes) * creating vignettes ... OK * checking for LF line-endings in source and make files and shell scripts * checking for empty or unneeded directories * building ‘biomaRt_2.67.0.tar.gz’