Package: biomaRt Version: 2.65.16 Command: /Library/Frameworks/R.framework/Resources/bin/R CMD INSTALL biomaRt StartedAt: 2025-10-03 15:23:08 -0400 (Fri, 03 Oct 2025) EndedAt: 2025-10-03 15:23:33 -0400 (Fri, 03 Oct 2025) EllapsedTime: 25.1 seconds RetCode: 0 Status: OK