Package: biomaRt Version: 2.65.16 Command: /Library/Frameworks/R.framework/Resources/bin/R CMD build --keep-empty-dirs --no-resave-data biomaRt StartedAt: 2025-10-03 16:11:56 -0400 (Fri, 03 Oct 2025) EndedAt: 2025-10-03 16:13:50 -0400 (Fri, 03 Oct 2025) EllapsedTime: 114.3 seconds RetCode: 0 Status: OK PackageFile: biomaRt_2.65.16.tar.gz PackageFileSize: 885 KiB