Package: biomaRt Version: 2.65.16 Command: /Library/Frameworks/R.framework/Resources/bin/R CMD INSTALL biomaRt StartedAt: 2025-10-13 15:09:52 -0400 (Mon, 13 Oct 2025) EndedAt: 2025-10-13 15:09:58 -0400 (Mon, 13 Oct 2025) EllapsedTime: 5.9 seconds RetCode: 0 Status: OK