Package: biomaRt Version: 2.65.16 Command: /Library/Frameworks/R.framework/Resources/bin/R CMD build --keep-empty-dirs --no-resave-data biomaRt StartedAt: 2025-10-13 15:47:10 -0400 (Mon, 13 Oct 2025) EndedAt: 2025-10-13 15:47:55 -0400 (Mon, 13 Oct 2025) EllapsedTime: 45.5 seconds RetCode: 0 Status: OK PackageFile: biomaRt_2.65.16.tar.gz PackageFileSize: 885.3 KiB