Package: biomaRt Version: 2.65.16 Command: rm -rf biomaRt.buildbin-libdir && mkdir biomaRt.buildbin-libdir && /Users/biocbuild/BBS/utils/build-universal.sh biomaRt_2.65.16.tar.gz /Library/Frameworks/R.framework/Resources/bin/R biomaRt.buildbin-libdir StartedAt: 2025-10-12 22:29:58 -0400 (Sun, 12 Oct 2025) EndedAt: 2025-10-12 22:30:05 -0400 (Sun, 12 Oct 2025) EllapsedTime: 7.2 seconds RetCode: 0 Status: OK PackageFile: biomaRt_2.65.16.tgz PackageFileSize: 968.2 KiB