Package: biomaRt Version: 2.65.16 Maintainer: Hugo Gruson MaintainerEmail: hugo.gruson at embl.de git_url: https://git.bioconductor.org/packages/biomaRt git_branch: devel git_last_commit: 4741f8a git_last_commit_date: 2025-09-29 09:07:21 -0400 (Mon, 29 Sep 2025)