Package: biodbUniprot Version: 1.15.1 Command: /home/biocbuild/bbs-3.22-bioc/R/bin/R CMD INSTALL biodbUniprot StartedAt: 2025-10-10 15:23:31 -0400 (Fri, 10 Oct 2025) EndedAt: 2025-10-10 15:23:37 -0400 (Fri, 10 Oct 2025) EllapsedTime: 6.7 seconds RetCode: 0 Status: OK