Package: biodbUniprot Version: 1.15.1 Command: /home/biocbuild/bbs-3.22-bioc/R/bin/R CMD build --keep-empty-dirs --no-resave-data --md5 biodbUniprot StartedAt: 2025-10-10 16:41:21 -0400 (Fri, 10 Oct 2025) EndedAt: 2025-10-10 16:41:32 -0400 (Fri, 10 Oct 2025) EllapsedTime: 11.0 seconds RetCode: 1 Status: ERROR PackageFile: None PackageFileSize: NA