Package: biodbNci Version: 1.13.1 Command: /home/biocbuild/bbs-3.22-bioc/R/bin/R CMD INSTALL biodbNci StartedAt: 2025-09-29 15:10:25 -0400 (Mon, 29 Sep 2025) EndedAt: 2025-09-29 15:10:58 -0400 (Mon, 29 Sep 2025) EllapsedTime: 33.1 seconds RetCode: 0 Status: OK