Package: biodbNcbi Version: 1.13.1 Command: /home/biocbuild/bbs-3.22-bioc/R/bin/R CMD INSTALL biodbNcbi StartedAt: 2025-10-06 15:10:51 -0400 (Mon, 06 Oct 2025) EndedAt: 2025-10-06 15:11:07 -0400 (Mon, 06 Oct 2025) EllapsedTime: 15.6 seconds RetCode: 0 Status: OK