Package: biodbNcbi Version: 1.13.1 Command: /home/biocbuild/bbs-3.22-bioc/R/bin/R CMD build --keep-empty-dirs --no-resave-data --md5 biodbNcbi StartedAt: 2025-10-06 16:28:02 -0400 (Mon, 06 Oct 2025) EndedAt: 2025-10-06 16:28:17 -0400 (Mon, 06 Oct 2025) EllapsedTime: 15.0 seconds RetCode: 1 Status: ERROR PackageFile: None PackageFileSize: NA