Package: biodbHmdb Version: 1.15.1 Command: /home/biocbuild/bbs-3.23-bioc/R/bin/R CMD INSTALL biodbHmdb StartedAt: 2025-10-22 21:03:04 -0000 (Wed, 22 Oct 2025) EndedAt: 2025-10-22 21:03:41 -0000 (Wed, 22 Oct 2025) EllapsedTime: 36.9 seconds RetCode: 0 Status: OK