Package: biodbHmdb Version: 1.15.1 Command: /home/biocbuild/bbs-3.23-bioc/R/bin/R CMD build --keep-empty-dirs --no-resave-data biodbHmdb StartedAt: 2025-10-22 22:11:09 -0000 (Wed, 22 Oct 2025) EndedAt: 2025-10-22 22:11:53 -0000 (Wed, 22 Oct 2025) EllapsedTime: 44.1 seconds RetCode: 1 Status: ERROR PackageFile: None PackageFileSize: NA