Package: biodbChebi Version: 1.15.1 Command: /Library/Frameworks/R.framework/Resources/bin/R CMD INSTALL biodbChebi StartedAt: 2025-10-10 15:18:24 -0400 (Fri, 10 Oct 2025) EndedAt: 2025-10-10 15:19:00 -0400 (Fri, 10 Oct 2025) EllapsedTime: 35.1 seconds RetCode: 0 Status: OK