Package: biodb Version: 1.19.0 Command: /home/biocbuild/bbs-3.23-bioc/R/bin/R CMD build --keep-empty-dirs --no-resave-data biodb StartedAt: 2025-11-21 16:29:46 -0500 (Fri, 21 Nov 2025) EndedAt: 2025-11-21 16:30:49 -0500 (Fri, 21 Nov 2025) EllapsedTime: 63.1 seconds RetCode: 0 Status: OK PackageFile: biodb_1.19.0.tar.gz PackageFileSize: 1.115 MiB