Package: biodb Version: 1.19.0 Command: /Library/Frameworks/R.framework/Resources/bin/R CMD INSTALL biodb StartedAt: 2025-11-20 15:05:50 -0500 (Thu, 20 Nov 2025) EndedAt: 2025-11-20 15:06:10 -0500 (Thu, 20 Nov 2025) EllapsedTime: 20.2 seconds RetCode: 0 Status: OK