Package: biodb Version: 1.19.0 Command: /Library/Frameworks/R.framework/Resources/bin/R CMD build --keep-empty-dirs --no-resave-data biodb StartedAt: 2025-11-20 15:45:31 -0500 (Thu, 20 Nov 2025) EndedAt: 2025-11-20 15:45:54 -0500 (Thu, 20 Nov 2025) EllapsedTime: 23.3 seconds RetCode: 0 Status: OK PackageFile: biodb_1.19.0.tar.gz PackageFileSize: 1.115 MiB