Package: biocthis Version: 1.21.0 Command: /home/biocbuild/bbs-3.23-bioc/R/bin/R CMD INSTALL biocthis StartedAt: 2025-11-03 15:11:11 -0500 (Mon, 03 Nov 2025) EndedAt: 2025-11-03 15:11:19 -0500 (Mon, 03 Nov 2025) EllapsedTime: 8.6 seconds RetCode: 0 Status: OK