Package: biocthis Version: 1.21.0 Command: /Library/Frameworks/R.framework/Resources/bin/R CMD INSTALL biocthis StartedAt: 2025-11-23 15:23:04 -0500 (Sun, 23 Nov 2025) EndedAt: 2025-11-23 15:23:23 -0500 (Sun, 23 Nov 2025) EllapsedTime: 19.1 seconds RetCode: 0 Status: OK