Package: biocthis Version: 1.21.0 Command: /Library/Frameworks/R.framework/Resources/bin/R CMD build --keep-empty-dirs --no-resave-data biocthis StartedAt: 2025-11-23 16:20:48 -0500 (Sun, 23 Nov 2025) EndedAt: 2025-11-23 16:21:12 -0500 (Sun, 23 Nov 2025) EllapsedTime: 24.0 seconds RetCode: 0 Status: OK PackageFile: biocthis_1.21.0.tar.gz PackageFileSize: 660.2 KiB