Package: biocthis Version: 1.21.0 Command: rm -rf biocthis.buildbin-libdir && mkdir biocthis.buildbin-libdir && /Users/biocbuild/BBS/utils/build-universal.sh biocthis_1.21.0.tar.gz /Library/Frameworks/R.framework/Resources/bin/R biocthis.buildbin-libdir StartedAt: 2025-11-24 01:25:36 -0500 (Mon, 24 Nov 2025) EndedAt: 2025-11-24 01:25:47 -0500 (Mon, 24 Nov 2025) EllapsedTime: 10.5 seconds RetCode: 0 Status: OK PackageFile: biocthis_1.21.0.tgz PackageFileSize: 705.9 KiB