Package: biocthis Version: 1.21.0 Command: /Library/Frameworks/R.framework/Resources/bin/R CMD INSTALL biocthis StartedAt: 2025-11-21 15:06:35 -0500 (Fri, 21 Nov 2025) EndedAt: 2025-11-21 15:06:40 -0500 (Fri, 21 Nov 2025) EllapsedTime: 5.0 seconds RetCode: 0 Status: OK