Package: biocroxytest Version: 1.5.0 Command: /home/biocbuild/R/R/bin/R CMD build --keep-empty-dirs --no-resave-data biocroxytest StartedAt: 2025-10-09 23:04:48 -0000 (Thu, 09 Oct 2025) EndedAt: 2025-10-09 23:04:55 -0000 (Thu, 09 Oct 2025) EllapsedTime: 7.0 seconds RetCode: 0 Status: OK PackageFile: biocroxytest_1.5.0.tar.gz PackageFileSize: 2.494 MiB