Package: biocroxytest Version: 1.5.0 Command: chmod a+r biocroxytest -R && F:\biocbuild\bbs-3.22-bioc\R\bin\R.exe CMD build --keep-empty-dirs --no-resave-data biocroxytest StartedAt: 2025-08-14 18:44:57 -0400 (Thu, 14 Aug 2025) EndedAt: 2025-08-14 18:45:13 -0400 (Thu, 14 Aug 2025) EllapsedTime: 15.6 seconds RetCode: 0 Status: OK PackageFile: biocroxytest_1.5.0.tar.gz PackageFileSize: 2.493 MiB