Package: biocroxytest Version: 1.7.0 Command: /home/biocbuild/bbs-3.23-bioc/R/bin/R CMD check --install=check:biocroxytest.install-out.txt --library=/home/biocbuild/bbs-3.23-bioc/R/site-library --timings biocroxytest_1.7.0.tar.gz StartedAt: 2025-11-14 21:27:25 -0500 (Fri, 14 Nov 2025) EndedAt: 2025-11-14 21:27:52 -0500 (Fri, 14 Nov 2025) EllapsedTime: 27.0 seconds RetCode: 0 Status: OK CheckDir: biocroxytest.Rcheck Warnings: 0