Package: biocroxytest Version: 1.7.0 Command: /home/biocbuild/bbs-3.23-bioc/R/bin/R CMD build --keep-empty-dirs --no-resave-data biocroxytest StartedAt: 2025-11-07 16:27:50 -0500 (Fri, 07 Nov 2025) EndedAt: 2025-11-07 16:27:56 -0500 (Fri, 07 Nov 2025) EllapsedTime: 6.0 seconds RetCode: 0 Status: OK PackageFile: biocroxytest_1.7.0.tar.gz PackageFileSize: 2.493 MiB